BEGIN:VCALENDAR
VERSION:2.0
PRODID:-//TYPO3/NONSGML News system (news)//EN
CALSCALE:GREGORIAN
METHOD:PUBLISH
BEGIN:VEVENT
UID:news-116932@velden.gv.at

DTSTAMP:20260423T160842Z



DTSTART;TZID=Europe/Vienna:20260601T000000
DTEND;TZID=Europe/Vienna:20260601T000000

SUMMARY:Maibaum Fest der FF-Augsdorf
DESCRIPTION:mit Maibaum aufstellen am 30.04.2026.

LOCATION:


END:VEVENT
END:VCALENDAR
